BEGIN:VCALENDAR
VERSION:2.0
PRODID:Events Booking
BEGIN:VEVENT
UID:69e8235cd0b49
SUMMARY:U15 országos döntő
DESCRIPTION:
LOCATION:Alföld és Észak\, Magyarország
DTSTART:20220519T220000Z
DTEND:20220521T220000Z
DTSTAMP:20220520T114554Z
ORGANIZER:MAILTO:noreply@bvsc.hu
GEO:46.6798;21.098543
X-APPLE-STRUCTURED-LOCATION;VALUE=URI;X-ADDRESS=Alföld és Észak\, Magyar
 ország;X-APPLE-RADIUS=72;X-TITLE=Békéscsaba:46.6798;21.098543
END:VEVENT
END:VCALENDAR