BEGIN:VCALENDAR
VERSION:2.0
PRODID:Events Booking
BEGIN:VEVENT
UID:69ebbf66e8194
SUMMARY:VIII.BVSC Őszi Kupa
DESCRIPTION:
LOCATION:Szőnyi út 2.
DTSTART:20231110T230000Z
DTEND:20231111T230000Z
DTSTAMP:20231005T192039Z
ORGANIZER:MAILTO:Rendszerüzenet - BVSC Zugló
GEO:47.523093;19.092965
X-APPLE-STRUCTURED-LOCATION;VALUE=URI;X-ADDRESS=Szőnyi út 2.;X-APPLE-RADI
 US=72;X-TITLE=Laky Károly uszoda:47.523093;19.092965
END:VEVENT
BEGIN:VEVENT
UID:69ebbf66e8213
SUMMARY:XVIII. BVSC Cikluszáró úszóverseny 
DESCRIPTION:
LOCATION:Szőnyi út 2.
DTSTART:20231215T230000Z
DTEND:20231216T230000Z
DTSTAMP:20231005T192117Z
ORGANIZER:MAILTO:Rendszerüzenet - BVSC Zugló
GEO:47.523093;19.092965
X-APPLE-STRUCTURED-LOCATION;VALUE=URI;X-ADDRESS=Szőnyi út 2.;X-APPLE-RADI
 US=72;X-TITLE=Laky Károly uszoda:47.523093;19.092965
END:VEVENT
END:VCALENDAR