BEGIN:VCALENDAR
VERSION:2.0
PRODID:Events Booking
BEGIN:VEVENT
UID:69ec2f38b1f5b
SUMMARY:UTE U21 - BVSC-Zugló
DESCRIPTION:
DTSTART:20231105T170000Z
DTEND:20231105T190000Z
DTSTAMP:20230829T230802Z
ORGANIZER:MAILTO:noreply@bvsc.hu
END:VEVENT
END:VCALENDAR