BEGIN:VCALENDAR
VERSION:2.0
PRODID:Events Booking
BEGIN:VEVENT
UID:69e81b73a4c81
SUMMARY:UVSE-BVSC 
DESCRIPTION:
DTSTART:20230913T160000Z
DTEND:20230913T170000Z
DTSTAMP:20230911T192854Z
ORGANIZER:MAILTO:noreply@bvsc.hu
END:VEVENT
END:VCALENDAR