BEGIN:VCALENDAR
VERSION:2.0
PRODID:Events Booking
BEGIN:VEVENT
UID:69e80acb8f969
SUMMARY:Vasas SC - BVSC-Zugló
DESCRIPTION:
DTSTART:20240331T170000Z
DTSTAMP:20240312T143541Z
ORGANIZER:MAILTO:noreply@bvsc.hu
END:VEVENT
END:VCALENDAR