BEGIN:VCALENDAR
VERSION:2.0
PRODID:Events Booking
BEGIN:VEVENT
UID:69e849c71ab74
SUMMARY:Vasas SC - BVSC-Zugló
DESCRIPTION:
DTSTART:20240302T160000Z
DTEND:20240302T180000Z
DTSTAMP:20230829T233843Z
ORGANIZER:MAILTO:noreply@bvsc.hu
END:VEVENT
END:VCALENDAR