BEGIN:VCALENDAR
VERSION:2.0
PRODID:Events Booking
BEGIN:VEVENT
UID:69eb415065be8
SUMMARY:VEHIR Veszprémi ESC - BVSC-Zugló
DESCRIPTION:
DTSTART:20240203T150000Z
DTEND:20240203T170000Z
DTSTAMP:20230829T233316Z
ORGANIZER:MAILTO:noreply@bvsc.hu
END:VEVENT
END:VCALENDAR