BEGIN:VCALENDAR
VERSION:2.0
PRODID:Events Booking
BEGIN:VEVENT
UID:69e834894e864
SUMMARY:VK Sabac Elixir - BVSC-Zugló
DESCRIPTION:Eurokupa\, Csoportkör\, 2. mérkőzés
DTSTART:20231019T170000Z
DTEND:20231019T180000Z
DTSTAMP:20231019T090628Z
ORGANIZER:MAILTO:noreply@bvsc.hu
END:VEVENT
END:VCALENDAR